BEGIN:VCALENDAR
VERSION:2.0
CALSCALE:GREGORIAN
METHOD:PUBLISH
PRODID://CBAA//514328
BEGIN:VEVENT
DTSTAMP:20260422T094403
VTIMEZONE:America/New_York
DTSTART:20260513T180000Z
DTEND:20260513T193000Z
UID:514328
SUMMARY:CBAA 2026 Annual General Meeting
LOCATION:
DESCRIPTION:CBAA 2026 Annual General Meeting\n\n05/13/26 02:00 PM EST\n - 05/13/26 03:30 PM EST\Description:\nCBAA members, join us on May 13 at 2 p.m. EDT for our virtual annual general meeting. At the AGM we’ll present annual reports (including financials), elect directors and address new business. If you have a matter for discussion at the CBAA’s 2025 AGM, contact the association in advance at membersupport@cbaa.ca.\n\n 
X-ALT-DESC;FMTTYPE=text/html:CBAA 2026 Annual General Meeting<br /><br />05/13/26 02:00 PM EST - 05/13/26 03:30 PM EST<br />Description:<br /><span style="font-size:14px">CBAA members, join us on May 13 at 2 p.m. EDT for our virtual annual general meeting. At the AGM we&rsquo;ll present annual reports (including financials), elect directors and address new business. If you have a matter for discussion at the CBAA&rsquo;s 2025 AGM, contact the association in advance at <strong><a href="mailto:membersupport@cbaa.ca" rel="noreferrer noopener" target="_blank">membersupport@cbaa.ca</a></strong>.</span><br />
<br />
&nbsp;
PRIORITY:3
TRANSP:TRANSPARENT
BEGIN:VALARM
TRIGGER:-PT5M
ACTION:DISPLAY
DESCRIPTION:Reminder
END:VALARM
END:VEVENT
END:VCALENDAR
