BEGIN:VCALENDAR
VERSION:2.0
CALSCALE:GREGORIAN
METHOD:PUBLISH
PRODID://CBAA//468406
BEGIN:VEVENT
DTSTAMP:20260422T140242
VTIMEZONE:America/Chicago
DTSTART:20251201T190000Z
DTEND:20251201T210000Z
UID:468406
SUMMARY:Fall: Central Canada (Regina) Regional Chapter Meeting
LOCATION:Kreos Avation			, 2550 Arrow Bay	, Regina, SK, S4W 0V1
DESCRIPTION:Fall: Central Canada (Regina) Regional Chapter Meeting\n\n12/01/25 01:00 PM CST\n - 12/01/25 03:00 PM CST\Description:\nThis meeting is a fantastic opportunity to engage in meaningful discussions, network with industry professionals, and collaborate on the latest trends and developments within the business aviation community. Your participation is key in shaping the future of our industry.\n\nWhy Attend?\n\n\n	Connect with industry peers and expand your professional network.\n	Gain insights from expert speakers and panel discussions.\n	Discuss current challenges and opportunities in business aviation.\n\nRegional Chapter Meeting Content Preferences Survey: Please take a moment to share your preferences and interests to help us tailor the content to your needs. Take the survey here.\n\nWe look forward to seeing you there!\n\Location:\nKreos Avation			\n2550 Arrow Bay	\nRegina, SK S4W 0V1
X-ALT-DESC;FMTTYPE=text/html:Fall: Central Canada (Regina) Regional Chapter Meeting<br /><br />12/01/25 01:00 PM CST - 12/01/25 03:00 PM CST<br />Description:<br /><p>This meeting is a fantastic opportunity to engage in meaningful discussions, network with industry professionals, and collaborate on the latest trends and developments within the business aviation community. Your participation is key in shaping the future of our industry.</p>

<p><strong>Why Attend?</strong></p>

<ul>
	<li>Connect with industry peers and expand your professional network.</li>
	<li>Gain insights from expert speakers and panel discussions.</li>
	<li>Discuss current challenges and opportunities in business aviation.</li>
</ul>
<strong>Regional Chapter Meeting Content Preferences Survey:&nbsp;</strong>Please take a moment to share your preferences and interests to help us tailor the content to your needs. <a href="https://forms.office.com/r/RZxB0mn7M5">Take the survey here</a>.

<p>We look forward to seeing you there!</p>
<br />Location:<br />Kreos Avation			<br />2550 Arrow Bay	<br />Regina, SK S4W 0V1
PRIORITY:3
TRANSP:TRANSPARENT
BEGIN:VALARM
TRIGGER:-PT5M
ACTION:DISPLAY
DESCRIPTION:Reminder
END:VALARM
END:VEVENT
END:VCALENDAR
