BEGIN:VCALENDAR
VERSION:2.0
CALSCALE:GREGORIAN
METHOD:PUBLISH
PRODID://CBAA//465086
BEGIN:VEVENT
DTSTAMP:20260422T140258
VTIMEZONE:America/Los_Angeles
DTSTART:20251205T013000Z
DTEND:20251205T040000Z
UID:465086
SUMMARY:Fall: Pacific Regional Chapter Meeting
LOCATION:Signature Aviation, 4360 Agar Drive, Richmond, BC, V7B 1A3
DESCRIPTION:Fall: Pacific Regional Chapter Meeting\n\n12/04/25 05:30 PM PST\n - 12/04/25 08:00 PM PST\Description:\nThis meeting is a fantastic opportunity to engage in meaningful discussions, network with industry professionals, and collaborate on the latest trends and developments within the business aviation community. Your participation is key in shaping the future of our industry.\n\nWhy Attend?\n\n\n	Connect with industry peers and expand your professional network.\n	Gain insights from expert speakers and panel discussions.\n	Discuss current challenges and opportunities in business aviation.\n\nRegional Chapter Meeting Content Preferences Survey: Please take a moment to share your preferences and interests to help us tailor the content to your needs. Take the survey here.\n\nWe look forward to seeing you there!\n\Location:\nSignature Aviation\n4360 Agar Drive\nRichmond, BC V7B 1A3
X-ALT-DESC;FMTTYPE=text/html:Fall: Pacific Regional Chapter Meeting<br /><br />12/04/25 05:30 PM PST - 12/04/25 08:00 PM PST<br />Description:<br /><p>This meeting is a fantastic opportunity to engage in meaningful discussions, network with industry professionals, and collaborate on the latest trends and developments within the business aviation community. Your participation is key in shaping the future of our industry.</p>

<p><strong>Why Attend?</strong></p>

<ul>
	<li>Connect with industry peers and expand your professional network.</li>
	<li>Gain insights from expert speakers and panel discussions.</li>
	<li>Discuss current challenges and opportunities in business aviation.</li>
</ul>
<strong>Regional Chapter Meeting Content Preferences Survey:&nbsp;</strong>Please take a moment to share your preferences and interests to help us tailor the content to your needs. <a href="https://forms.office.com/r/RZxB0mn7M5">Take the survey here</a>.

<p>We look forward to seeing you there!</p>
<br />Location:<br />Signature Aviation<br />4360 Agar Drive<br />Richmond, BC V7B 1A3
PRIORITY:3
TRANSP:TRANSPARENT
BEGIN:VALARM
TRIGGER:-PT5M
ACTION:DISPLAY
DESCRIPTION:Reminder
END:VALARM
END:VEVENT
END:VCALENDAR
