BEGIN:VCALENDAR
VERSION:2.0
CALSCALE:GREGORIAN
METHOD:PUBLISH
PRODID://CBAA//457485
BEGIN:VEVENT
DTSTAMP:20260422T162722
VTIMEZONE:America/Los_Angeles
DTSTART:20251115T014500Z
DTEND:20251115T060000Z
UID:457485
SUMMARY:Silver Wings Industry and Scholarship Awards Celebration
LOCATION:
DESCRIPTION:Silver Wings Industry and Scholarship Awards Celebration\n\n11/14/25 05:45 PM PST\n - 11/14/25 10:00 PM PST\Description:\nAt our annual Silver Wings Industry and Scholarship Awards Celebration, the BCAC recognizes aviation and aerospace industry colleagues for specific achievements. As well, we disburse over $200,000 through our Aviation and Aerospace Scholarship Awards Program to hard-working students enrolled in aviation and/or aerospace programs in British Columbia. This is the largest scholarship program of its kind in Canada.
X-ALT-DESC;FMTTYPE=text/html:Silver Wings Industry and Scholarship Awards Celebration<br /><br />11/14/25 05:45 PM PST - 11/14/25 10:00 PM PST<br />Description:<br />At our annual&nbsp;Silver Wings Industry and Scholarship Awards Celebration, the BCAC recognizes aviation and aerospace industry colleagues for specific achievements. As well, we disburse over&nbsp;$200,000 through our&nbsp;Aviation and Aerospace Scholarship Awards Program&nbsp;to hard-working students enrolled in aviation and/or aerospace programs in British Columbia. This is the largest scholarship program of its kind in Canada.
PRIORITY:3
TRANSP:TRANSPARENT
BEGIN:VALARM
TRIGGER:-PT5M
ACTION:DISPLAY
DESCRIPTION:Reminder
END:VALARM
END:VEVENT
END:VCALENDAR
