BEGIN:VCALENDAR
VERSION:2.0
CALSCALE:GREGORIAN
METHOD:PUBLISH
PRODID://CBAA//454982
BEGIN:VEVENT
DTSTAMP:20260422T142122
VTIMEZONE:America/Denver
DTSTART:20251204T000000Z
DTEND:20251204T030000Z
UID:454982
SUMMARY:Fall: Southern Alberta (Calgary) Regional Chapter Meeting
LOCATION:Signature Aviation, 1441 Aviation Park NE, Calgary, Al, T2E 8M7
DESCRIPTION:Fall: Southern Alberta (Calgary) Regional Chapter Meeting\n\n12/03/25 05:00 PM MST\n - 12/03/25 08:00 PM MST\Description:\nThis meeting is a fantastic opportunity to engage in meaningful discussions, network with industry professionals, and collaborate on the latest trends and developments within the business aviation community. Your participation is key to shaping the future of our industry.\n\nWhy Attend?\n\n\n	Connect with industry peers and expand your professional network.\n	Gain insights from expert speakers and panel discussions.\n	Discuss current challenges and opportunities in business aviation.\n\nRegional Chapter Meeting Content Preferences Survey: Please take a moment to share your preferences and interests to help us tailor the content to your needs. Take the survey here.\n\nWe look forward to seeing you there!\n\Location:\nSignature Aviation\n1441 Aviation Park NE\nCalgary, Al T2E 8M7
X-ALT-DESC;FMTTYPE=text/html:Fall: Southern Alberta (Calgary) Regional Chapter Meeting<br /><br />12/03/25 05:00 PM MST - 12/03/25 08:00 PM MST<br />Description:<br /><p>This meeting is a fantastic opportunity to engage in meaningful discussions, network with industry professionals, and collaborate on the latest trends and developments within the business aviation community. Your participation is key to shaping the future of our industry.</p>

<p><strong>Why Attend?</strong></p>

<ul>
	<li>Connect with industry peers and expand your professional network.</li>
	<li>Gain insights from expert speakers and panel discussions.</li>
	<li>Discuss current challenges and opportunities in business aviation.</li>
</ul>
<strong>Regional Chapter Meeting Content Preferences Survey:&nbsp;</strong>Please take a moment to share your preferences and interests to help us tailor the content to your needs. <a href="https://forms.office.com/r/RZxB0mn7M5">Take the survey here</a>.

<p>We look forward to seeing you there!</p>
<br />Location:<br />Signature Aviation<br />1441 Aviation Park NE<br />Calgary, Al T2E 8M7
PRIORITY:3
TRANSP:TRANSPARENT
BEGIN:VALARM
TRIGGER:-PT5M
ACTION:DISPLAY
DESCRIPTION:Reminder
END:VALARM
END:VEVENT
END:VCALENDAR
