BEGIN:VCALENDAR
VERSION:2.0
CALSCALE:GREGORIAN
METHOD:PUBLISH
PRODID://CBAA//454981
BEGIN:VEVENT
DTSTAMP:20260422T142453
VTIMEZONE:America/Denver
DTSTART:20251203T000000Z
DTEND:20251203T020000Z
UID:454981
SUMMARY:Fall: Northern Alberta (Edmonton) Regional Chapter Meeting
LOCATION:RedTail Landing Golf Course			, 435 Airport Perimeter Rd #7, Edmonton, AB, T9E 0V4	
DESCRIPTION:Fall: Northern Alberta (Edmonton) Regional Chapter Meeting\n\n12/02/25 05:00 PM MST\n - 12/02/25 07:00 PM MST\Description:\nThis meeting is a fantastic opportunity to engage in meaningful discussions, network with industry professionals, and collaborate on the latest trends and developments within the business aviation community. Your participation is key in shaping the future of our industry.\n\nWhy Attend?\n\n\n	Connect with industry peers and expand your professional network.\n	Gain insights from expert speakers and panel discussions.\n	Discuss current challenges and opportunities in business aviation.\n\nRegional Chapter Meeting Content Preferences Survey: Please take a moment to share your preferences and interests to help us tailor the content to your needs. Take the survey here.\n\nWe look forward to seeing you there!\n\Location:\nRedTail Landing Golf Course			\n435 Airport Perimeter Rd #7\nEdmonton, AB T9E 0V4
X-ALT-DESC;FMTTYPE=text/html:Fall: Northern Alberta (Edmonton) Regional Chapter Meeting<br /><br />12/02/25 05:00 PM MST - 12/02/25 07:00 PM MST<br />Description:<br /><p>This meeting is a fantastic opportunity to engage in meaningful discussions, network with industry professionals, and collaborate on the latest trends and developments within the business aviation community. Your participation is key in shaping the future of our industry.</p>

<p><strong>Why Attend?</strong></p>

<ul>
	<li>Connect with industry peers and expand your professional network.</li>
	<li>Gain insights from expert speakers and panel discussions.</li>
	<li>Discuss current challenges and opportunities in business aviation.</li>
</ul>
<strong>Regional Chapter Meeting Content Preferences Survey:&nbsp;</strong>Please take a moment to share your preferences and interests to help us tailor the content to your needs. <a href="https://forms.office.com/r/RZxB0mn7M5">Take the survey here</a>.

<p>We look forward to seeing you there!</p>
<br />Location:<br />RedTail Landing Golf Course			<br />435 Airport Perimeter Rd #7<br />Edmonton, AB T9E 0V4	
PRIORITY:3
TRANSP:TRANSPARENT
BEGIN:VALARM
TRIGGER:-PT5M
ACTION:DISPLAY
DESCRIPTION:Reminder
END:VALARM
END:VEVENT
END:VCALENDAR
